BEGIN:VCALENDAR
VERSION:2.0
METHOD:PUBLISH
PRODID:-//imacoda.com//SPD-Web-O-Mat//EN
CALSCALE:GREGORIAN
BEGIN:VTIMEZONE
TZID:Europe/Berlin
BEGIN:DAYLIGHT
TZOFFSETFROM:+0100
RRULE:FREQ=YEARLY;BYMONTH=3;BYDAY=-1SU
DTSTART:19810329T020000
TZNAME:MESZ
TZOFFSETTO:+0200
END:DAYLIGHT
BEGIN:STANDARD
TZOFFSETFROM:+0200
RRULE:FREQ=YEARLY;BYMONTH=10;BYDAY=-1SU
DTSTART:19961027T030000
TZNAME:MEZ
TZOFFSETTO:+0100
END:STANDARD
END:VTIMEZONE
BEGIN:VEVENT
UID:20251028T140201Z-00001144513-LULU@www.bayernspd.de
CREATED:20251028T140201Z
LAST-MODIFIED:20260419T142044Z
DTSTAMP:20260419T142044Z
TRANSP:TRANSPARENT
DTSTART;TZID=Europe/Berlin:20260422T180000
DTEND;TZID=Europe/Berlin:20260422T180000
SUMMARY:Sitzung des Werk- und Energieausschusses (inkl. Tagesordnung)
LOCATION:Stockstadt\,Rathaus\, Sitzungssaal
DESCRIPTION:Termin im Web (SPD Stockstadt-Main):\nhttps://spd-stockstadt
 -main.de/termine/?id=1144513
END:VEVENT
END:VCALENDAR
